BEGIN:VCALENDAR
VERSION:2.0
PRODID:-//Bala Latha CSB Groups Academy - ECPv6.15.13.1//NONSGML v1.0//EN
CALSCALE:GREGORIAN
METHOD:PUBLISH
X-WR-CALNAME:Bala Latha CSB Groups Academy
X-ORIGINAL-URL:https://balalathacsbgroups.com
X-WR-CALDESC:Events for Bala Latha CSB Groups Academy
REFRESH-INTERVAL;VALUE=DURATION:PT1H
X-Robots-Tag:noindex
X-PUBLISHED-TTL:PT1H
BEGIN:VTIMEZONE
TZID:Asia/Kolkata
BEGIN:STANDARD
TZOFFSETFROM:+0530
TZOFFSETTO:+0530
TZNAME:IST
DTSTART:20240101T000000
END:STANDARD
END:VTIMEZONE
BEGIN:VEVENT
DTSTART;TZID=Asia/Kolkata:20250418T080000
DTEND;TZID=Asia/Kolkata:20250418T170000
DTSTAMP:20260419T195403
CREATED:20250406T054825Z
LAST-MODIFIED:20250406T054854Z
UID:31451-1744963200-1744995600@balalathacsbgroups.com
SUMMARY:Sample Event
DESCRIPTION:Sample Event
URL:https://balalathacsbgroups.com/event/sample-event/
ATTACH;FMTTYPE=image/jpeg:https://balalathacsbgroups.com/wp-content/uploads/2025/03/gs-pcm-full-course.jpg
END:VEVENT
END:VCALENDAR